BEGIN:VCALENDAR
VERSION:2.0
PRODID:-//wp-events-plugin.com//7.2.3.1//EN
BEGIN:VEVENT
UID:93@events.authorevents.co.uk
DTSTART:20260423T000000Z
DTEND:20260426T000000Z
DTSTAMP:20260320T110107Z
URL:https://events.authorevents.co.uk/events/north-london-book-fest/
SUMMARY:North London Book Fest
DESCRIPTION:Welcome to North London Book Festival 2026 – a vibrant litera
 ry gathering featuring debut and iconic authors across multiple stages at 
 Alexandra Palace. Expect an inspiring mix of readings\, panel discussions\
 , Q&amp\;As\, workshops\, and book signings. It’s a true marketplace of 
 stories for every genre and every reader.\n\nThis year we are thrilled to 
 welcome back audience favourites Laura Bates\, Natalie Haynes\, and Mic
 hael Rosen\, who captivated crowds in 2024. Joining them are an exciting l
 ine-up: Rachel Parris\, Alan Hollinghurst\, Tessa Hadley\, Jeffrey Boakye
 \, Ben Aaronovitch\, Kate Muir\, Charlotte Mendelson\, Natasha Brown and 
 many more.\n\nThe festival launches on 23 April 2026 with a powerful openi
 ng event of words and music as Kadiatu Kanneh-Mason introduces her new b
 ook To Be Young\, Gifted and Black. Her passionate defence of Black excel
 lence in the arts will be accompanied by live performances from Braimah 
 and Konya Kanneh-Mason\, adding musical excellence to the conversation.\n
 \nThe North London Book Fest has something to delight readers of every gen
 eration. Young book lovers can write poetic verses about creepy crawlies a
 nd dinosaurs with Simon Mole\, dress up as great women from history with 
 suffragette descendant Kate Pankhurst\, and join Onjali Q. Raúf for an
  inspiring workshop on writing and activism.\n\nThroughout the festival\, 
 you can mingle with your favourite authors\, get books signed\, and networ
 k with fellow readers and writers. Enjoy readings over a bite to eat and a
  glass of wine.\n\nPick up your next page-turner and explore a wide select
 ion of books at our festival bookstore supplied by Waterstones.\n\nNorth 
 London Book Fest &lt\; Alexandra Palace
ATTACH;FMTTYPE=image/jpeg:https://events.authorevents.co.uk/wp-content/upl
 oads/2026/03/AE-Events-3.png
LOCATION:Alexandra Palace\, Alexandra Palace Way\, London\, N22 7AY\, 
X-APPLE-STRUCTURED-LOCATION;VALUE=URI;X-ADDRESS=Alexandra Palace Way\, Lond
 on\, N22 7AY\, ;X-APPLE-RADIUS=100;X-TITLE=Alexandra Palace:geo:0,0
END:VEVENT
END:VCALENDAR