BEGIN:VCALENDAR
VERSION:2.0
PRODID:-//wp-events-plugin.com//7.2.3.1//EN
BEGIN:VEVENT
UID:92@events.authorevents.co.uk
DTSTART:20260612T100000Z
DTEND:20260614T160000Z
DTSTAMP:20260320T110151Z
URL:https://events.authorevents.co.uk/events/buxton-for-books/
SUMMARY:Buxton for Books
DESCRIPTION:This free\, three‑day\, drop‑in festival celebrates the ric
 h writing\, reading and storytelling culture of Buxton\, the High Peak and
  North Derbyshire.\n\nDesigned for all ages\, the festival invites familie
 s\, schools\, readers\, writers and cultural visitors to explore a lively 
 programme of activities across the town. From school workshops and hands
 ‑on family sessions to author talks\, performances\, readings and commun
 ity participation\, Buxton for Books offers something for everyone.\n\nAt 
 its heart\, the festival champions the books and voices rooted in our regi
 on. It shines a spotlight on local and regional writers\, established and 
 emerging\, while encouraging people of all ages to discover\, share and en
 joy the stories that shape our sense of place. Alongside visiting authors\
 , the programme celebrates the creativity and talent found throughout our 
 communities.\n\nFriendly\, inclusive and inspiring\, Buxton for Books aims
  to build strong awareness across Buxton\, the High Peak and wider Derbysh
 ire\, positioning the festival as a key date in the region’s cultural ca
 lendar. All events are free of charge\, with optional donations supporting
  the charitable work of Buxton Crescent Heritage Trust\, helping us protec
 t\, celebrate and share the heritage of this remarkable place.\n\nBuxton f
 or Books
ATTACH;FMTTYPE=image/jpeg:https://events.authorevents.co.uk/wp-content/upl
 oads/2026/03/AE-Events-2.png
CATEGORIES:Festivals &amp; Conferences
LOCATION:Buxton for Books\, Buxton Crescent\, High Peak\, \, Derbyshire\, 
X-APPLE-STRUCTURED-LOCATION;VALUE=URI;X-ADDRESS=Buxton Crescent\, High Peak
 \, \, Derbyshire\, ;X-APPLE-RADIUS=100;X-TITLE=Buxton for Books:geo:0,0
END:VEVENT
END:VCALENDAR