BEGIN:VCALENDAR
VERSION:2.0
PRODID:-//wp-events-plugin.com//7.2.3.1//EN
BEGIN:VEVENT
UID:97@events.authorevents.co.uk
DTSTART:20260426T100000Z
DTEND:20260426T100000Z
DTSTAMP:20260416T082258Z
URL:https://events.authorevents.co.uk/events/authors-tips-for-tackling-tou
 gh-times/
SUMMARY:Authors’ Tips for Tackling Tough Times
DESCRIPTION:USUALLY £10. GET 25% OFF WITH CODE: Lisa25!\n\nWriting is grea
 t… until it isn’t. All writers face issues at any stage of their writi
 ng.\n\nThis event is for everyone\, from beginners to the more experienced
 .\n\nLisa Sell has collated advice directly from authors - including bests
 ellers\, self-publishing\, and the traditionally published - to help you.\
 nLearn from these authors and Lisa how to tackle problems\, including\n•
  Imposter syndrome\n• Lacking confidence\n• Feeling unseen\n• Reject
 ion\n• Zero/low book sales\n• ‘Comparisonitis’\n• Learning new t
 hings\n• Promoting and marketing\n\nFeel more in control. Be better equi
 pped. Know you’re not alone.\n\nhttps://www.pdsw.org.uk/events/authors-t
 ips-for-tackling-tough-times/
ATTACH;FMTTYPE=image/jpeg:https://events.authorevents.co.uk/wp-content/upl
 oads/2026/04/Workshops.png
CATEGORIES:Workshops
LOCATION:Pavilion Dance\, Pavilion Dance\, \, Bournemouth\,\, BH1 2BU\, Uni
 ted Kingdom
X-APPLE-STRUCTURED-LOCATION;VALUE=URI;X-ADDRESS=Pavilion Dance\, \, Bournem
 outh\,\, BH1 2BU\, United Kingdom;X-APPLE-RADIUS=100;X-TITLE=Pavilion Danc
 e:geo:0,0
END:VEVENT
END:VCALENDAR